BEGIN:VCALENDAR
VERSION:2.0
PRODID:-//Hello Cambria - ECPv6.15.20//NONSGML v1.0//EN
CALSCALE:GREGORIAN
METHOD:PUBLISH
X-WR-CALNAME:Hello Cambria
X-ORIGINAL-URL:https://hellocambria.com
X-WR-CALDESC:Events for Hello Cambria
REFRESH-INTERVAL;VALUE=DURATION:PT1H
X-Robots-Tag:noindex
X-PUBLISHED-TTL:PT1H
BEGIN:VTIMEZONE
TZID:America/Los_Angeles
BEGIN:DAYLIGHT
TZOFFSETFROM:-0800
TZOFFSETTO:-0700
TZNAME:PDT
DTSTART:20250309T100000
END:DAYLIGHT
BEGIN:STANDARD
TZOFFSETFROM:-0700
TZOFFSETTO:-0800
TZNAME:PST
DTSTART:20251102T090000
END:STANDARD
BEGIN:DAYLIGHT
TZOFFSETFROM:-0800
TZOFFSETTO:-0700
TZNAME:PDT
DTSTART:20260308T100000
END:DAYLIGHT
BEGIN:STANDARD
TZOFFSETFROM:-0700
TZOFFSETTO:-0800
TZNAME:PST
DTSTART:20261101T090000
END:STANDARD
BEGIN:DAYLIGHT
TZOFFSETFROM:-0800
TZOFFSETTO:-0700
TZNAME:PDT
DTSTART:20270314T100000
END:DAYLIGHT
BEGIN:STANDARD
TZOFFSETFROM:-0700
TZOFFSETTO:-0800
TZNAME:PST
DTSTART:20271107T090000
END:STANDARD
END:VTIMEZONE
BEGIN:VEVENT
DTSTART;TZID=America/Los_Angeles:20260425T100000
DTEND;TZID=America/Los_Angeles:20260425T130000
DTSTAMP:20260423T024321
CREATED:20260422T232047Z
LAST-MODIFIED:20260422T232047Z
UID:10006222-1777111200-1777122000@hellocambria.com
SUMMARY:North Coast: California Bumble Bee Atlas Field Event at Piedras Blancas Light Station
DESCRIPTION:Step into the world of citizen science along one of the most scenic stretches of the Central Coast. \nThe California Bumble Bee Atlas Field Event brings together community members\, naturalists\, and conservation partners for a hands-on experience tracking and documenting native bumble bees. Hosted at the historic Piedras Blancas Light Station just north of Cambria\, this event is part of a statewide effort led by the Xerces Society to better understand and protect California’s pollinators. \nParticipants will learn how to safely observe and identify bumble bees in the field\, contribute to real scientific data collection\, and explore the coastal habitat where these important species live and forage. It’s a rare opportunity to take part in meaningful conservation work while spending time outdoors in one of the most beautiful locations on the North Coast. \nNo prior experience is required\, just curiosity and a willingness to explore. \nRegistration is required to participate. Check-in will take place at the Highway 1 entrance gate\, and additional details will be provided to registered participants ahead of the event. \nFor more local events and experiences\, explore the full HelloCambria events calendar or browse our guide to things to do in Cambria.
URL:https://hellocambria.com/event/bumble-bee-atlas-piedras-blancas-2026/
LOCATION:Piedras Blancas Light Station\, 15950 Cabrillo Highway\, San Simeon\, 93452\, United States
CATEGORIES:Community Event,Outdoors,Workshop
ATTACH;FMTTYPE=image/jpeg:https://hellocambria.com/wp-content/uploads/2026/04/BeeAtlas.jpg
END:VEVENT
BEGIN:VEVENT
DTSTART;TZID=America/Los_Angeles:20260426T170000
DTEND;TZID=America/Los_Angeles:20260426T190000
DTSTAMP:20260423T024321
CREATED:20260403T190405Z
LAST-MODIFIED:20260422T231304Z
UID:10005837-1777222800-1777230000@hellocambria.com
SUMMARY:🎶 Live Music: The Rhythm Section at Woodlands Concert Hall
DESCRIPTION:An evening of world-class jazz comes to Cambria with a performance that brings decades of musical collaboration to the stage. \n“The Rhythm Section” features renowned bassist Luther Hughes and drummer Paul Kreibich\, widely recognized as one of the finest rhythm sections in jazz. Their work has supported countless recordings and performances\, including their long-standing collaborations with Charlie and Sandi Shoemake. \nFor this special performance at Woodlands Concert Hall\, the group will revisit selections from their extensive catalog\, blending tight musicianship with the kind of intuitive interplay that only comes from years of playing together. It’s an intimate concert experience that highlights both technical mastery and the joy of live jazz. \nWine will be available for purchase\, creating a relaxed and welcoming atmosphere for an evening of music in the heart of Cambria. \nYou can explore more live music happening around town in our guide to live music in Cambria or browse the full HelloCambria event calendar to see what else is coming up.
URL:https://hellocambria.com/event/rhythm-section-jazz-cambria-2026/
LOCATION:Woodlands Concert Hall\, 715 Main Street\, Cambria\, CA\, 93428\, United States
CATEGORIES:Live Music
ATTACH;FMTTYPE=image/jpeg:https://hellocambria.com/wp-content/uploads/2026/04/Woodland-Music-Hall.jpg
END:VEVENT
END:VCALENDAR