BEGIN:VCALENDAR
VERSION:2.0
PRODID:-//Hello Cambria - ECPv6.15.20//NONSGML v1.0//EN
CALSCALE:GREGORIAN
METHOD:PUBLISH
X-WR-CALNAME:Hello Cambria
X-ORIGINAL-URL:https://hellocambria.com
X-WR-CALDESC:Events for Hello Cambria
REFRESH-INTERVAL;VALUE=DURATION:PT1H
X-Robots-Tag:noindex
X-PUBLISHED-TTL:PT1H
BEGIN:VTIMEZONE
TZID:America/Los_Angeles
BEGIN:DAYLIGHT
TZOFFSETFROM:-0800
TZOFFSETTO:-0700
TZNAME:PDT
DTSTART:20250309T100000
END:DAYLIGHT
BEGIN:STANDARD
TZOFFSETFROM:-0700
TZOFFSETTO:-0800
TZNAME:PST
DTSTART:20251102T090000
END:STANDARD
BEGIN:DAYLIGHT
TZOFFSETFROM:-0800
TZOFFSETTO:-0700
TZNAME:PDT
DTSTART:20260308T100000
END:DAYLIGHT
BEGIN:STANDARD
TZOFFSETFROM:-0700
TZOFFSETTO:-0800
TZNAME:PST
DTSTART:20261101T090000
END:STANDARD
BEGIN:DAYLIGHT
TZOFFSETFROM:-0800
TZOFFSETTO:-0700
TZNAME:PDT
DTSTART:20270314T100000
END:DAYLIGHT
BEGIN:STANDARD
TZOFFSETFROM:-0700
TZOFFSETTO:-0800
TZNAME:PST
DTSTART:20271107T090000
END:STANDARD
END:VTIMEZONE
BEGIN:VEVENT
DTSTART;TZID=America/Los_Angeles:20260904T210000
DTEND;TZID=America/Los_Angeles:20260904T230000
DTSTAMP:20260423T014137
CREATED:20260401T214648Z
LAST-MODIFIED:20260401T214648Z
UID:10004048-1788555600-1788562800@hellocambria.com
SUMMARY:🎶 Late Night Live Music at the Fireside Lounge at Cambria Pines Lodge
DESCRIPTION:When the evening stretches a little longer\, the Fireside Lounge turns up the energy with late night live music every Friday and Saturday. \nThis later set offers a more intimate\, after hours vibe\, perfect for night owls\, weekend travelers\, and anyone looking to keep the evening going. Settle in with a drink\, enjoy the warmth of the lodge\, and experience live music in a relaxed yet lively setting that feels distinctly Cambria. \nWith rotating performers and a cozy lounge atmosphere\, late night music at the Fireside Lounge is an ideal way to close out your night on the Central Coast.
URL:https://hellocambria.com/event/late-night-live-music-fireside-lounge-cambria-pines-lodge-2/2026-09-04/
LOCATION:Cambria Pines Lodge\, 2905 Burton Drive\, Cambria\, CA\, 93428\, United States
CATEGORIES:Live Music
ATTACH;FMTTYPE=image/jpeg:https://hellocambria.com/wp-content/uploads/2026/02/Cambria-Pines-Lodge_Fireside-Lounge.jpg
END:VEVENT
BEGIN:VEVENT
DTSTART;TZID=America/Los_Angeles:20260905T100000
DTEND;TZID=America/Los_Angeles:20260905T120000
DTSTAMP:20260423T014137
CREATED:20260309T221536Z
LAST-MODIFIED:20260309T221536Z
UID:10005593-1788602400-1788609600@hellocambria.com
SUMMARY:Saturday Tennis Drop-In at Coast Union Courts
DESCRIPTION:Looking to get active and meet fellow tennis players in Cambria? The Cambria Tennis Club hosts a weekly Saturday Tennis Drop-In at the Coast Union High School courts. \nPlayers of all ages and skill levels are welcome\, and both members and non-members are encouraged to join. Whether you are an experienced player or just getting started\, the drop-in format makes it easy to jump into a game and enjoy some friendly competition. \nThe tennis courts at Coast Union High School feature six courts\, including three newly resurfaced courts\, providing a great place to play while enjoying Cambria’s beautiful coastal climate. \nCourts 1 and 2 are reserved specifically for the Saturday drop-in session from 10 AM to noon. \nIf you enjoy playing regularly\, the Cambria Tennis Club welcomes new members and community support to help maintain the courts and grow the local tennis community. \nBring your racket\, meet new players\, and enjoy a morning of tennis.
URL:https://hellocambria.com/event/cambria-saturday-tennis-drop-in/2026-09-05/
LOCATION:Coast Union High School Tennis Courts\, 2950 Santa Rosa Creek Road\, Cambria\, CA\, 93428\, United States
CATEGORIES:Body Health,Outdoors
ATTACH;FMTTYPE=image/png:https://hellocambria.com/wp-content/uploads/2026/03/Screenshot-2026-03-09-at-3.11.29-PM.png
END:VEVENT
BEGIN:VEVENT
DTSTART;TZID=America/Los_Angeles:20260905T120000
DTEND;TZID=America/Los_Angeles:20260905T160000
DTSTAMP:20260423T014137
CREATED:20260307T195758Z
LAST-MODIFIED:20260307T195758Z
UID:10005334-1788609600-1788624000@hellocambria.com
SUMMARY:Every Picture Tells a Story 2: Local Artists with Local Writers
DESCRIPTION:The Cambria Center for the Arts presents the return of its popular collaborative exhibition Every Picture Tells a Story\, pairing visual art with original written interpretations from local authors. \nFollowing the success of the first exhibition\, this second installment invites visitors to experience a unique artistic dialogue between painters and writers. Each artwork is displayed alongside a written response inspired by the piece\, offering viewers multiple perspectives and interpretations. \nThe exhibit highlights the vibrant creativity of the Cambria arts community while exploring how imagery and storytelling interact and inspire one another. \nVisitors are invited to explore this engaging blend of visual art and literature inside The Studio at Cambria Center for the Arts.
URL:https://hellocambria.com/event/every-picture-tells-a-story-cambria-exhibit/2026-09-05/
LOCATION:Cambria Center for the Arts\, 1350 Main Street\, Cambria\, CA\, 93428\, United States
CATEGORIES:Arts & Culture
ATTACH;FMTTYPE=image/jpeg:https://hellocambria.com/wp-content/uploads/2026/03/every-Picture.jpg
END:VEVENT
BEGIN:VEVENT
DTSTART;TZID=America/Los_Angeles:20260905T173000
DTEND;TZID=America/Los_Angeles:20260905T203000
DTSTAMP:20260423T014137
CREATED:20260401T214707Z
LAST-MODIFIED:20260401T214707Z
UID:10003764-1788629400-1788640200@hellocambria.com
SUMMARY:🎶 Weekend Live Music at the Fireside Lounge at Cambria Pines Lodge
DESCRIPTION:Friday and Saturday nights at the Fireside Lounge bring extended evenings of live music and classic Cambria lodge ambiance. \nWith both early and late sets\, weekends offer plenty of time to enjoy live performances in this cozy\, fireside setting. Start your evening with music before dinner or settle in for a later set after a night out. Either way\, the Fireside Lounge provides a relaxed\, welcoming space to enjoy the sounds of live music. \nArtist lineups rotate regularly\, making each weekend feel fresh while keeping the same warm\, inviting atmosphere that makes this spot a local favorite.
URL:https://hellocambria.com/event/weekend-live-music-fireside-lounge-cambria-pines-lodge-2/2026-09-05/
LOCATION:Cambria Pines Lodge\, 2905 Burton Drive\, Cambria\, CA\, 93428\, United States
CATEGORIES:Live Music
ATTACH;FMTTYPE=image/jpeg:https://hellocambria.com/wp-content/uploads/2026/02/Cambria-Pines-Lodge_Fireside-Lounge.jpg
END:VEVENT
BEGIN:VEVENT
DTSTART;TZID=America/Los_Angeles:20260905T210000
DTEND;TZID=America/Los_Angeles:20260905T230000
DTSTAMP:20260423T014137
CREATED:20260401T214648Z
LAST-MODIFIED:20260401T214648Z
UID:10004049-1788642000-1788649200@hellocambria.com
SUMMARY:🎶 Late Night Live Music at the Fireside Lounge at Cambria Pines Lodge
DESCRIPTION:When the evening stretches a little longer\, the Fireside Lounge turns up the energy with late night live music every Friday and Saturday. \nThis later set offers a more intimate\, after hours vibe\, perfect for night owls\, weekend travelers\, and anyone looking to keep the evening going. Settle in with a drink\, enjoy the warmth of the lodge\, and experience live music in a relaxed yet lively setting that feels distinctly Cambria. \nWith rotating performers and a cozy lounge atmosphere\, late night music at the Fireside Lounge is an ideal way to close out your night on the Central Coast.
URL:https://hellocambria.com/event/late-night-live-music-fireside-lounge-cambria-pines-lodge-2/2026-09-05/
LOCATION:Cambria Pines Lodge\, 2905 Burton Drive\, Cambria\, CA\, 93428\, United States
CATEGORIES:Live Music
ATTACH;FMTTYPE=image/jpeg:https://hellocambria.com/wp-content/uploads/2026/02/Cambria-Pines-Lodge_Fireside-Lounge.jpg
END:VEVENT
BEGIN:VEVENT
DTSTART;TZID=America/Los_Angeles:20260906T120000
DTEND;TZID=America/Los_Angeles:20260906T160000
DTSTAMP:20260423T014137
CREATED:20260307T195758Z
LAST-MODIFIED:20260307T195758Z
UID:10005335-1788696000-1788710400@hellocambria.com
SUMMARY:Every Picture Tells a Story 2: Local Artists with Local Writers
DESCRIPTION:The Cambria Center for the Arts presents the return of its popular collaborative exhibition Every Picture Tells a Story\, pairing visual art with original written interpretations from local authors. \nFollowing the success of the first exhibition\, this second installment invites visitors to experience a unique artistic dialogue between painters and writers. Each artwork is displayed alongside a written response inspired by the piece\, offering viewers multiple perspectives and interpretations. \nThe exhibit highlights the vibrant creativity of the Cambria arts community while exploring how imagery and storytelling interact and inspire one another. \nVisitors are invited to explore this engaging blend of visual art and literature inside The Studio at Cambria Center for the Arts.
URL:https://hellocambria.com/event/every-picture-tells-a-story-cambria-exhibit/2026-09-06/
LOCATION:Cambria Center for the Arts\, 1350 Main Street\, Cambria\, CA\, 93428\, United States
CATEGORIES:Arts & Culture
ATTACH;FMTTYPE=image/jpeg:https://hellocambria.com/wp-content/uploads/2026/03/every-Picture.jpg
END:VEVENT
BEGIN:VEVENT
DTSTART;TZID=America/Los_Angeles:20260906T140000
DTEND;TZID=America/Los_Angeles:20260906T160000
DTSTAMP:20260423T014137
CREATED:20260320T191601Z
LAST-MODIFIED:20260403T222044Z
UID:10005689-1788703200-1788710400@hellocambria.com
SUMMARY:🎶 Live Music: Melodies for Moonstoners with Jory Shulman
DESCRIPTION:Enjoy an afternoon of live music at Moonstone Cellars featuring Jory Shulman. Known for jazz\, rock\, and expressive guitar\, this performance pairs perfectly with a glass of wine and the relaxed coastal charm of Cambria. Set in the welcoming courtyard setting\, these live shows offer an easygoing\, high-quality music experience for locals and visitors alike.
URL:https://hellocambria.com/event/jory-shulman-moonstone-cellars/2026-09-06/
LOCATION:Moonstone Cellars\, 812 Cornwall St\, Cambria\, CA\, 94328\, United States
CATEGORIES:Beer, Wine, or Spirits,Live Music
ATTACH;FMTTYPE=image/jpeg:https://hellocambria.com/wp-content/uploads/2026/03/b43b7cf0-c78e-4a7f-b7bc-d2065031b295.jpg
END:VEVENT
BEGIN:VEVENT
DTSTART;TZID=America/Los_Angeles:20260906T173000
DTEND;TZID=America/Los_Angeles:20260906T203000
DTSTAMP:20260423T014137
CREATED:20260401T214801Z
LAST-MODIFIED:20260401T214801Z
UID:10003256-1788715800-1788726600@hellocambria.com
SUMMARY:🎶 Live Music Sundays at the Fireside Lounge at Cambria Pines Lodge
DESCRIPTION:Sunday evenings at the Fireside Lounge are made for slowing down and settling in. \nLive music fills the lounge each Sunday night\, creating a relaxed and welcoming atmosphere that pairs perfectly with the lodge’s cozy interiors and classic Central Coast charm. Whether you are wrapping up a weekend in Cambria or simply looking for an easy\, comfortable night out\, this weekly tradition offers the perfect soundtrack. \nGrab a drink\, sink into a fireside seat\, and enjoy live music in one of Cambria’s most inviting settings. Artist lineups rotate regularly\, so each Sunday brings something new while keeping the same familiar\, laid back vibe.
URL:https://hellocambria.com/event/sunday-live-music-fireside-lounge-cambria-pines-lodge-2/2026-09-06/
LOCATION:Cambria Pines Lodge\, 2905 Burton Drive\, Cambria\, CA\, 93428\, United States
CATEGORIES:Live Music
ATTACH;FMTTYPE=image/jpeg:https://hellocambria.com/wp-content/uploads/2026/02/Cambria-Pines-Lodge_Fireside-Lounge.jpg
END:VEVENT
BEGIN:VEVENT
DTSTART;TZID=America/Los_Angeles:20260907T183000
DTEND;TZID=America/Los_Angeles:20260907T193000
DTSTAMP:20260423T014137
CREATED:20260318T234457Z
LAST-MODIFIED:20260319T000607Z
UID:10005632-1788805800-1788809400@hellocambria.com
SUMMARY:The Journey Within Meditation Series (6-Week Guided Experience)
DESCRIPTION:If you’ve been looking for a way to slow down\, reset\, and reconnect\, this guided meditation series offers a thoughtful place to begin. \nThe Journey Within is a six-week immersive meditation experience designed to help participants cultivate greater inner calm\, clarity\, and awareness. Held in the peaceful setting of Vyana Wellness Collective\, each session builds upon the last\, creating a steady and supportive progression over time. \nLed by Karen Leary of Flourishing-by Design\, the series blends guided meditation with moments of reflection\, offering space to quiet the noise of everyday life and reconnect with a deeper sense of presence. \nEach session is approximately 60 minutes and is structured to be approachable for both beginners and those with prior meditation experience. \nParticipants are encouraged to attend the full series to experience the complete arc of the journey\, though individual sessions are available for those with limited availability. \nWhat to Expect:\n• Guided meditation sessions focused on clarity and inner awareness\n• A calm\, supportive environment for reflection and personal growth\n• A consistent weekly rhythm designed to build over time \nWhat to Bring:\n• A yoga mat or comfortable seating support\n• A water bottle\n• A journal for optional reflection \nThis series is ideal for anyone looking to create space\, reduce stress\, and explore a more intentional pace\, all within the welcoming community of Cambria. \nSpace may be limited. To reserve your spot or learn more\, contact the organizer directly. \n📞 408-348-7267\n📧 flowinglikewater99@gmail.com
URL:https://hellocambria.com/event/meditation-series-cambria/2026-09-07/
LOCATION:Vyana Wellness Collective\, 4090 Burton Drive (upstairs)\, Cambria\, CA\, 93428\, United States
CATEGORIES:Body Health
ATTACH;FMTTYPE=image/jpeg:https://hellocambria.com/wp-content/uploads/2026/03/mediation2.jpg
END:VEVENT
BEGIN:VEVENT
DTSTART;TZID=America/Los_Angeles:20260908T120000
DTEND;TZID=America/Los_Angeles:20260908T160000
DTSTAMP:20260423T014137
CREATED:20260307T195758Z
LAST-MODIFIED:20260307T195758Z
UID:10005336-1788868800-1788883200@hellocambria.com
SUMMARY:Every Picture Tells a Story 2: Local Artists with Local Writers
DESCRIPTION:The Cambria Center for the Arts presents the return of its popular collaborative exhibition Every Picture Tells a Story\, pairing visual art with original written interpretations from local authors. \nFollowing the success of the first exhibition\, this second installment invites visitors to experience a unique artistic dialogue between painters and writers. Each artwork is displayed alongside a written response inspired by the piece\, offering viewers multiple perspectives and interpretations. \nThe exhibit highlights the vibrant creativity of the Cambria arts community while exploring how imagery and storytelling interact and inspire one another. \nVisitors are invited to explore this engaging blend of visual art and literature inside The Studio at Cambria Center for the Arts.
URL:https://hellocambria.com/event/every-picture-tells-a-story-cambria-exhibit/2026-09-08/
LOCATION:Cambria Center for the Arts\, 1350 Main Street\, Cambria\, CA\, 93428\, United States
CATEGORIES:Arts & Culture
ATTACH;FMTTYPE=image/jpeg:https://hellocambria.com/wp-content/uploads/2026/03/every-Picture.jpg
END:VEVENT
BEGIN:VEVENT
DTSTART;TZID=America/Los_Angeles:20260908T183000
DTEND;TZID=America/Los_Angeles:20260908T203000
DTSTAMP:20260423T014137
CREATED:20260214T005043Z
LAST-MODIFIED:20260214T005043Z
UID:10004747-1788892200-1788899400@hellocambria.com
SUMMARY:Tuesday Night Trivia at The Optimyst
DESCRIPTION:Love trivia? So does Cambria. \nJoin The Optimyst every Tuesday evening for fresh categories\, surprising questions\, and plenty of friendly competition. Tuesday Night Trivia is a relaxed\, community-style gathering where locals and visitors alike test their knowledge while enjoying great wine and good company. \nBring your smartest friends\, your luckiest guesser\, or just show up ready to play. It’s one of Cambria’s favorite weekly traditions\, and a fun way to experience the town beyond the usual weekend scene. \nTeams\, laughs\, and bragging rights included.
URL:https://hellocambria.com/event/tuesday-night-trivia-cambria/2026-09-08/
LOCATION:The Optimyst\, 4056 Burton Drive\, Cambria\, CA\, 93428\, United States
CATEGORIES:Beer, Wine, or Spirits,Fun Night Out
ATTACH;FMTTYPE=image/jpeg:https://hellocambria.com/wp-content/uploads/2026/02/455c663c-2c08-43ee-a99e-7ec7fd96ffd6.jpg
END:VEVENT
BEGIN:VEVENT
DTSTART;TZID=America/Los_Angeles:20260908T183000
DTEND;TZID=America/Los_Angeles:20260908T213000
DTSTAMP:20260423T014137
CREATED:20260401T215626Z
LAST-MODIFIED:20260401T215626Z
UID:10005743-1788892200-1788903000@hellocambria.com
SUMMARY:🎶 Live Music: Marty Townsend at Cambria Pines Lodge
DESCRIPTION:🎶 Acoustic blues and classic rock with a Central Coast edge. \nMarty Townsend returns to Cambria Pines Lodge for multiple performances throughout April\, bringing a rich blend of blues\, classic rock\, and acoustic favorites. \nHis laid-back style and strong musicianship make him a regular favorite for both locals and visitors looking for a relaxed but engaging live music experience. \nCatch Marty in the Fireside Lounge\, where the warm setting pairs perfectly with his sound for an easygoing night out in Cambria.
URL:https://hellocambria.com/event/marty-townsend-cambria-live-music/2026-09-08/
LOCATION:Cambria Pines Lodge: Fireside Lounge\, 2905 Burton Dr.\, Cambria\, CA\, 93428\, United States
CATEGORIES:Live Music
ATTACH;FMTTYPE=image/jpeg:https://hellocambria.com/wp-content/uploads/2026/02/Cambria-Pines-Lodge_Fireside-Lounge.jpg
END:VEVENT
END:VCALENDAR