BEGIN:VCALENDAR
VERSION:2.0
PRODID:-//Hello Cambria - ECPv6.15.20//NONSGML v1.0//EN
CALSCALE:GREGORIAN
METHOD:PUBLISH
X-WR-CALNAME:Hello Cambria
X-ORIGINAL-URL:https://hellocambria.com
X-WR-CALDESC:Events for Hello Cambria
REFRESH-INTERVAL;VALUE=DURATION:PT1H
X-Robots-Tag:noindex
X-PUBLISHED-TTL:PT1H
BEGIN:VTIMEZONE
TZID:America/Los_Angeles
BEGIN:DAYLIGHT
TZOFFSETFROM:-0800
TZOFFSETTO:-0700
TZNAME:PDT
DTSTART:20250309T100000
END:DAYLIGHT
BEGIN:STANDARD
TZOFFSETFROM:-0700
TZOFFSETTO:-0800
TZNAME:PST
DTSTART:20251102T090000
END:STANDARD
BEGIN:DAYLIGHT
TZOFFSETFROM:-0800
TZOFFSETTO:-0700
TZNAME:PDT
DTSTART:20260308T100000
END:DAYLIGHT
BEGIN:STANDARD
TZOFFSETFROM:-0700
TZOFFSETTO:-0800
TZNAME:PST
DTSTART:20261101T090000
END:STANDARD
BEGIN:DAYLIGHT
TZOFFSETFROM:-0800
TZOFFSETTO:-0700
TZNAME:PDT
DTSTART:20270314T100000
END:DAYLIGHT
BEGIN:STANDARD
TZOFFSETFROM:-0700
TZOFFSETTO:-0800
TZNAME:PST
DTSTART:20271107T090000
END:STANDARD
END:VTIMEZONE
BEGIN:VEVENT
DTSTART;TZID=America/Los_Angeles:20260725T173000
DTEND;TZID=America/Los_Angeles:20260725T203000
DTSTAMP:20260423T150951
CREATED:20260401T214707Z
LAST-MODIFIED:20260401T214707Z
UID:10003752-1785000600-1785011400@hellocambria.com
SUMMARY:🎶 Weekend Live Music at the Fireside Lounge at Cambria Pines Lodge
DESCRIPTION:Friday and Saturday nights at the Fireside Lounge bring extended evenings of live music and classic Cambria lodge ambiance. \nWith both early and late sets\, weekends offer plenty of time to enjoy live performances in this cozy\, fireside setting. Start your evening with music before dinner or settle in for a later set after a night out. Either way\, the Fireside Lounge provides a relaxed\, welcoming space to enjoy the sounds of live music. \nArtist lineups rotate regularly\, making each weekend feel fresh while keeping the same warm\, inviting atmosphere that makes this spot a local favorite.
URL:https://hellocambria.com/event/weekend-live-music-fireside-lounge-cambria-pines-lodge-2/2026-07-25/
LOCATION:Cambria Pines Lodge\, 2905 Burton Drive\, Cambria\, CA\, 93428\, United States
CATEGORIES:Live Music
ATTACH;FMTTYPE=image/jpeg:https://hellocambria.com/wp-content/uploads/2026/02/Cambria-Pines-Lodge_Fireside-Lounge.jpg
END:VEVENT
BEGIN:VEVENT
DTSTART;TZID=America/Los_Angeles:20260725T180000
DTEND;TZID=America/Los_Angeles:20260725T210000
DTSTAMP:20260423T150951
CREATED:20260220T041500Z
LAST-MODIFIED:20260220T041500Z
UID:10004965-1785002400-1785013200@hellocambria.com
SUMMARY:Neptune Pool Swim
DESCRIPTION:Dive into the legendary Neptune Pool at Hearst Castle during this exclusive Foundation fundraising event. \nThis limited-capacity evening swim offers a rare opportunity to experience the Enchanted Hill after hours. Guests will glide through the same marble-lined waters once enjoyed by Hollywood icons\, surrounded by Art Deco sculptures and sweeping coastal views. \nThe Neptune Pool measures 104 feet long and 58 feet wide\, framed in Vermont marble and architectural grandeur. Recently refurbished\, it stands as one of the most recognizable swimming pools in the world. \nThe evening includes scenic transport up the historic road\, access to historic changing rooms\, catered light fare by Brick & Mortar\, and complimentary wine and beer. \nLimited to 50 guests. Ages 12 and older. \nMembers only. \n$1\,000 per person. \nProceeds directly support preservation efforts and youth education programs through the Foundation at Hearst Castle. \nPHOTO CREDIT: https://foundationathearstcastle.com/events-calendar
URL:https://hellocambria.com/event/neptune-pool-swim-hearst-castle/2026-07-25/
LOCATION:Hearst Castle\, 750 Hearst Castle Road\, San Simeon\, CA\, 93452\, United States
CATEGORIES:Fundraiser
ATTACH;FMTTYPE=image/jpeg:https://hellocambria.com/wp-content/uploads/2026/02/TwilightOnTheTerrace2022HearstCastle-LauraPedrino-624-1-scaled-e1710302025302.jpg
END:VEVENT
BEGIN:VEVENT
DTSTART;TZID=America/Los_Angeles:20260725T210000
DTEND;TZID=America/Los_Angeles:20260725T230000
DTSTAMP:20260423T150951
CREATED:20260401T214648Z
LAST-MODIFIED:20260401T214648Z
UID:10004037-1785013200-1785020400@hellocambria.com
SUMMARY:🎶 Late Night Live Music at the Fireside Lounge at Cambria Pines Lodge
DESCRIPTION:When the evening stretches a little longer\, the Fireside Lounge turns up the energy with late night live music every Friday and Saturday. \nThis later set offers a more intimate\, after hours vibe\, perfect for night owls\, weekend travelers\, and anyone looking to keep the evening going. Settle in with a drink\, enjoy the warmth of the lodge\, and experience live music in a relaxed yet lively setting that feels distinctly Cambria. \nWith rotating performers and a cozy lounge atmosphere\, late night music at the Fireside Lounge is an ideal way to close out your night on the Central Coast.
URL:https://hellocambria.com/event/late-night-live-music-fireside-lounge-cambria-pines-lodge-2/2026-07-25/
LOCATION:Cambria Pines Lodge\, 2905 Burton Drive\, Cambria\, CA\, 93428\, United States
CATEGORIES:Live Music
ATTACH;FMTTYPE=image/jpeg:https://hellocambria.com/wp-content/uploads/2026/02/Cambria-Pines-Lodge_Fireside-Lounge.jpg
END:VEVENT
BEGIN:VEVENT
DTSTART;TZID=America/Los_Angeles:20260726T120000
DTEND;TZID=America/Los_Angeles:20260726T160000
DTSTAMP:20260423T150951
CREATED:20260307T195758Z
LAST-MODIFIED:20260307T195758Z
UID:10005299-1785067200-1785081600@hellocambria.com
SUMMARY:Every Picture Tells a Story 2: Local Artists with Local Writers
DESCRIPTION:The Cambria Center for the Arts presents the return of its popular collaborative exhibition Every Picture Tells a Story\, pairing visual art with original written interpretations from local authors. \nFollowing the success of the first exhibition\, this second installment invites visitors to experience a unique artistic dialogue between painters and writers. Each artwork is displayed alongside a written response inspired by the piece\, offering viewers multiple perspectives and interpretations. \nThe exhibit highlights the vibrant creativity of the Cambria arts community while exploring how imagery and storytelling interact and inspire one another. \nVisitors are invited to explore this engaging blend of visual art and literature inside The Studio at Cambria Center for the Arts.
URL:https://hellocambria.com/event/every-picture-tells-a-story-cambria-exhibit/2026-07-26/
LOCATION:Cambria Center for the Arts\, 1350 Main Street\, Cambria\, CA\, 93428\, United States
CATEGORIES:Arts & Culture
ATTACH;FMTTYPE=image/jpeg:https://hellocambria.com/wp-content/uploads/2026/03/every-Picture.jpg
END:VEVENT
BEGIN:VEVENT
DTSTART;TZID=America/Los_Angeles:20260726T173000
DTEND;TZID=America/Los_Angeles:20260726T203000
DTSTAMP:20260423T150951
CREATED:20260401T214801Z
LAST-MODIFIED:20260401T214801Z
UID:10003250-1785087000-1785097800@hellocambria.com
SUMMARY:🎶 Live Music Sundays at the Fireside Lounge at Cambria Pines Lodge
DESCRIPTION:Sunday evenings at the Fireside Lounge are made for slowing down and settling in. \nLive music fills the lounge each Sunday night\, creating a relaxed and welcoming atmosphere that pairs perfectly with the lodge’s cozy interiors and classic Central Coast charm. Whether you are wrapping up a weekend in Cambria or simply looking for an easy\, comfortable night out\, this weekly tradition offers the perfect soundtrack. \nGrab a drink\, sink into a fireside seat\, and enjoy live music in one of Cambria’s most inviting settings. Artist lineups rotate regularly\, so each Sunday brings something new while keeping the same familiar\, laid back vibe.
URL:https://hellocambria.com/event/sunday-live-music-fireside-lounge-cambria-pines-lodge-2/2026-07-26/
LOCATION:Cambria Pines Lodge\, 2905 Burton Drive\, Cambria\, CA\, 93428\, United States
CATEGORIES:Live Music
ATTACH;FMTTYPE=image/jpeg:https://hellocambria.com/wp-content/uploads/2026/02/Cambria-Pines-Lodge_Fireside-Lounge.jpg
END:VEVENT
BEGIN:VEVENT
DTSTART;TZID=America/Los_Angeles:20260727T183000
DTEND;TZID=America/Los_Angeles:20260727T193000
DTSTAMP:20260423T150951
CREATED:20260318T234457Z
LAST-MODIFIED:20260319T000607Z
UID:10005626-1785177000-1785180600@hellocambria.com
SUMMARY:The Journey Within Meditation Series (6-Week Guided Experience)
DESCRIPTION:If you’ve been looking for a way to slow down\, reset\, and reconnect\, this guided meditation series offers a thoughtful place to begin. \nThe Journey Within is a six-week immersive meditation experience designed to help participants cultivate greater inner calm\, clarity\, and awareness. Held in the peaceful setting of Vyana Wellness Collective\, each session builds upon the last\, creating a steady and supportive progression over time. \nLed by Karen Leary of Flourishing-by Design\, the series blends guided meditation with moments of reflection\, offering space to quiet the noise of everyday life and reconnect with a deeper sense of presence. \nEach session is approximately 60 minutes and is structured to be approachable for both beginners and those with prior meditation experience. \nParticipants are encouraged to attend the full series to experience the complete arc of the journey\, though individual sessions are available for those with limited availability. \nWhat to Expect:\n• Guided meditation sessions focused on clarity and inner awareness\n• A calm\, supportive environment for reflection and personal growth\n• A consistent weekly rhythm designed to build over time \nWhat to Bring:\n• A yoga mat or comfortable seating support\n• A water bottle\n• A journal for optional reflection \nThis series is ideal for anyone looking to create space\, reduce stress\, and explore a more intentional pace\, all within the welcoming community of Cambria. \nSpace may be limited. To reserve your spot or learn more\, contact the organizer directly. \n📞 408-348-7267\n📧 flowinglikewater99@gmail.com
URL:https://hellocambria.com/event/meditation-series-cambria/2026-07-27/
LOCATION:Vyana Wellness Collective\, 4090 Burton Drive (upstairs)\, Cambria\, CA\, 93428\, United States
CATEGORIES:Body Health
ATTACH;FMTTYPE=image/jpeg:https://hellocambria.com/wp-content/uploads/2026/03/mediation2.jpg
END:VEVENT
BEGIN:VEVENT
DTSTART;TZID=America/Los_Angeles:20260728T120000
DTEND;TZID=America/Los_Angeles:20260728T160000
DTSTAMP:20260423T150951
CREATED:20260307T195758Z
LAST-MODIFIED:20260307T195758Z
UID:10005300-1785240000-1785254400@hellocambria.com
SUMMARY:Every Picture Tells a Story 2: Local Artists with Local Writers
DESCRIPTION:The Cambria Center for the Arts presents the return of its popular collaborative exhibition Every Picture Tells a Story\, pairing visual art with original written interpretations from local authors. \nFollowing the success of the first exhibition\, this second installment invites visitors to experience a unique artistic dialogue between painters and writers. Each artwork is displayed alongside a written response inspired by the piece\, offering viewers multiple perspectives and interpretations. \nThe exhibit highlights the vibrant creativity of the Cambria arts community while exploring how imagery and storytelling interact and inspire one another. \nVisitors are invited to explore this engaging blend of visual art and literature inside The Studio at Cambria Center for the Arts.
URL:https://hellocambria.com/event/every-picture-tells-a-story-cambria-exhibit/2026-07-28/
LOCATION:Cambria Center for the Arts\, 1350 Main Street\, Cambria\, CA\, 93428\, United States
CATEGORIES:Arts & Culture
ATTACH;FMTTYPE=image/jpeg:https://hellocambria.com/wp-content/uploads/2026/03/every-Picture.jpg
END:VEVENT
BEGIN:VEVENT
DTSTART;TZID=America/Los_Angeles:20260728T183000
DTEND;TZID=America/Los_Angeles:20260728T203000
DTSTAMP:20260423T150951
CREATED:20260214T005043Z
LAST-MODIFIED:20260214T005043Z
UID:10004741-1785263400-1785270600@hellocambria.com
SUMMARY:Tuesday Night Trivia at The Optimyst
DESCRIPTION:Love trivia? So does Cambria. \nJoin The Optimyst every Tuesday evening for fresh categories\, surprising questions\, and plenty of friendly competition. Tuesday Night Trivia is a relaxed\, community-style gathering where locals and visitors alike test their knowledge while enjoying great wine and good company. \nBring your smartest friends\, your luckiest guesser\, or just show up ready to play. It’s one of Cambria’s favorite weekly traditions\, and a fun way to experience the town beyond the usual weekend scene. \nTeams\, laughs\, and bragging rights included.
URL:https://hellocambria.com/event/tuesday-night-trivia-cambria/2026-07-28/
LOCATION:The Optimyst\, 4056 Burton Drive\, Cambria\, CA\, 93428\, United States
CATEGORIES:Beer, Wine, or Spirits,Fun Night Out
ATTACH;FMTTYPE=image/jpeg:https://hellocambria.com/wp-content/uploads/2026/02/455c663c-2c08-43ee-a99e-7ec7fd96ffd6.jpg
END:VEVENT
BEGIN:VEVENT
DTSTART;TZID=America/Los_Angeles:20260728T183000
DTEND;TZID=America/Los_Angeles:20260728T213000
DTSTAMP:20260423T150951
CREATED:20260401T215626Z
LAST-MODIFIED:20260401T215626Z
UID:10005737-1785263400-1785274200@hellocambria.com
SUMMARY:🎶 Live Music: Marty Townsend at Cambria Pines Lodge
DESCRIPTION:🎶 Acoustic blues and classic rock with a Central Coast edge. \nMarty Townsend returns to Cambria Pines Lodge for multiple performances throughout April\, bringing a rich blend of blues\, classic rock\, and acoustic favorites. \nHis laid-back style and strong musicianship make him a regular favorite for both locals and visitors looking for a relaxed but engaging live music experience. \nCatch Marty in the Fireside Lounge\, where the warm setting pairs perfectly with his sound for an easygoing night out in Cambria.
URL:https://hellocambria.com/event/marty-townsend-cambria-live-music/2026-07-28/
LOCATION:Cambria Pines Lodge: Fireside Lounge\, 2905 Burton Dr.\, Cambria\, CA\, 93428\, United States
CATEGORIES:Live Music
ATTACH;FMTTYPE=image/jpeg:https://hellocambria.com/wp-content/uploads/2026/02/Cambria-Pines-Lodge_Fireside-Lounge.jpg
END:VEVENT
BEGIN:VEVENT
DTSTART;TZID=America/Los_Angeles:20260729T120000
DTEND;TZID=America/Los_Angeles:20260729T160000
DTSTAMP:20260423T150951
CREATED:20260307T195758Z
LAST-MODIFIED:20260307T195758Z
UID:10005301-1785326400-1785340800@hellocambria.com
SUMMARY:Every Picture Tells a Story 2: Local Artists with Local Writers
DESCRIPTION:The Cambria Center for the Arts presents the return of its popular collaborative exhibition Every Picture Tells a Story\, pairing visual art with original written interpretations from local authors. \nFollowing the success of the first exhibition\, this second installment invites visitors to experience a unique artistic dialogue between painters and writers. Each artwork is displayed alongside a written response inspired by the piece\, offering viewers multiple perspectives and interpretations. \nThe exhibit highlights the vibrant creativity of the Cambria arts community while exploring how imagery and storytelling interact and inspire one another. \nVisitors are invited to explore this engaging blend of visual art and literature inside The Studio at Cambria Center for the Arts.
URL:https://hellocambria.com/event/every-picture-tells-a-story-cambria-exhibit/2026-07-29/
LOCATION:Cambria Center for the Arts\, 1350 Main Street\, Cambria\, CA\, 93428\, United States
CATEGORIES:Arts & Culture
ATTACH;FMTTYPE=image/jpeg:https://hellocambria.com/wp-content/uploads/2026/03/every-Picture.jpg
END:VEVENT
BEGIN:VEVENT
DTSTART;TZID=America/Los_Angeles:20260729T180000
DTEND;TZID=America/Los_Angeles:20260729T200000
DTSTAMP:20260423T150951
CREATED:20260220T042916Z
LAST-MODIFIED:20260320T210420Z
UID:10005010-1785348000-1785355200@hellocambria.com
SUMMARY:Open Mic Night at Moonstone Cellars
DESCRIPTION:Midweek in Cambria just got louder\, in the best possible way. \nMoonstone Cellars hosts Open Mic Night every Wednesday in March\, inviting local musicians\, visiting performers\, and brave first-timers to take the stage in an intimate tasting room setting. \nThis isn’t a polished concert series. It’s community-driven\, unpredictable\, and full of heart. Acoustic guitars\, original songs\, spoken word\, and the occasional surprise performance all find a home here.\nEven better\, these March Open Mic Nights raise funds for Friends of the Elephant Seal\, supporting conservation efforts just up the coast in San Simeon. So every glass poured and every round of applause carries a little extra purpose. \nGuests are encouraged to sign up to perform or simply settle in with a glass of estate-grown wine and enjoy the evening. \nCambria locals show up for this one. Visitors stumble into it and feel like they’ve found something special. \nThat’s Open Mic Night at Moonstone Cellars.
URL:https://hellocambria.com/event/moonstone-cellars-open-mic-night/2026-07-29/
LOCATION:Moonstone Cellars\, 812 Cornwall St\, Cambria\, CA\, 94328\, United States
CATEGORIES:Fun Night Out,Live Music
ATTACH;FMTTYPE=image/jpeg:https://hellocambria.com/wp-content/uploads/2026/02/Open-Mic-Night.jpg
END:VEVENT
END:VCALENDAR