BEGIN:VCALENDAR
VERSION:2.0
PRODID:-//Hello Cambria - ECPv6.15.20//NONSGML v1.0//EN
CALSCALE:GREGORIAN
METHOD:PUBLISH
X-WR-CALNAME:Hello Cambria
X-ORIGINAL-URL:https://hellocambria.com
X-WR-CALDESC:Events for Hello Cambria
REFRESH-INTERVAL;VALUE=DURATION:PT1H
X-Robots-Tag:noindex
X-PUBLISHED-TTL:PT1H
BEGIN:VTIMEZONE
TZID:America/Los_Angeles
BEGIN:DAYLIGHT
TZOFFSETFROM:-0800
TZOFFSETTO:-0700
TZNAME:PDT
DTSTART:20250309T100000
END:DAYLIGHT
BEGIN:STANDARD
TZOFFSETFROM:-0700
TZOFFSETTO:-0800
TZNAME:PST
DTSTART:20251102T090000
END:STANDARD
BEGIN:DAYLIGHT
TZOFFSETFROM:-0800
TZOFFSETTO:-0700
TZNAME:PDT
DTSTART:20260308T100000
END:DAYLIGHT
BEGIN:STANDARD
TZOFFSETFROM:-0700
TZOFFSETTO:-0800
TZNAME:PST
DTSTART:20261101T090000
END:STANDARD
BEGIN:DAYLIGHT
TZOFFSETFROM:-0800
TZOFFSETTO:-0700
TZNAME:PDT
DTSTART:20270314T100000
END:DAYLIGHT
BEGIN:STANDARD
TZOFFSETFROM:-0700
TZOFFSETTO:-0800
TZNAME:PST
DTSTART:20271107T090000
END:STANDARD
END:VTIMEZONE
BEGIN:VEVENT
DTSTART;TZID=America/Los_Angeles:20260712T140000
DTEND;TZID=America/Los_Angeles:20260712T160000
DTSTAMP:20260422T055907
CREATED:20260320T205243Z
LAST-MODIFIED:20260403T222141Z
UID:10005701-1783864800-1783872000@hellocambria.com
SUMMARY:🎶 Live Music: Melodies for Moonstoners with Forever Green
DESCRIPTION:Settle into a summer afternoon in Cambria with live music from Forever Green at Moonstone Cellars. \nBlending acoustic guitar\, keys\, synthesizer\, and live-created groove box rhythms\, Forever Green creates a sound that feels both layered and effortless. Their music moves between original compositions and thoughtfully reimagined covers\, all tied together by distinctive vocal harmonies. \nThe result is a style that feels fresh yet familiar\, often compared to artists like The Bangles\, The Cranberries\, and The Indigo Girls. Their lyrics explore themes of love\, relationships\, folklore\, and the natural world\, adding depth to an already immersive musical experience. \nHosted in the relaxed courtyard setting at Moonstone Cellars\, this performance offers an easygoing way to enjoy live music on the Central Coast. Grab a glass of wine\, find a spot in the sun\, and let the afternoon unfold. \nNo cover charge.
URL:https://hellocambria.com/event/forever-green-moonstone-cellars-cambria/2026-07-12/
LOCATION:Moonstone Cellars\, 812 Cornwall St\, Cambria\, CA\, 94328\, United States
CATEGORIES:Beer, Wine, or Spirits,Live Music
ATTACH;FMTTYPE=image/jpeg:https://hellocambria.com/wp-content/uploads/2026/03/Forever-Green.jpg
END:VEVENT
BEGIN:VEVENT
DTSTART;TZID=America/Los_Angeles:20260712T173000
DTEND;TZID=America/Los_Angeles:20260712T203000
DTSTAMP:20260422T055907
CREATED:20260401T214801Z
LAST-MODIFIED:20260401T214801Z
UID:10003248-1783877400-1783888200@hellocambria.com
SUMMARY:🎶 Live Music Sundays at the Fireside Lounge at Cambria Pines Lodge
DESCRIPTION:Sunday evenings at the Fireside Lounge are made for slowing down and settling in. \nLive music fills the lounge each Sunday night\, creating a relaxed and welcoming atmosphere that pairs perfectly with the lodge’s cozy interiors and classic Central Coast charm. Whether you are wrapping up a weekend in Cambria or simply looking for an easy\, comfortable night out\, this weekly tradition offers the perfect soundtrack. \nGrab a drink\, sink into a fireside seat\, and enjoy live music in one of Cambria’s most inviting settings. Artist lineups rotate regularly\, so each Sunday brings something new while keeping the same familiar\, laid back vibe.
URL:https://hellocambria.com/event/sunday-live-music-fireside-lounge-cambria-pines-lodge-2/2026-07-12/
LOCATION:Cambria Pines Lodge\, 2905 Burton Drive\, Cambria\, CA\, 93428\, United States
CATEGORIES:Live Music
ATTACH;FMTTYPE=image/jpeg:https://hellocambria.com/wp-content/uploads/2026/02/Cambria-Pines-Lodge_Fireside-Lounge.jpg
END:VEVENT
BEGIN:VEVENT
DTSTART;TZID=America/Los_Angeles:20260713T183000
DTEND;TZID=America/Los_Angeles:20260713T193000
DTSTAMP:20260422T055907
CREATED:20260318T234457Z
LAST-MODIFIED:20260319T000607Z
UID:10005624-1783967400-1783971000@hellocambria.com
SUMMARY:The Journey Within Meditation Series (6-Week Guided Experience)
DESCRIPTION:If you’ve been looking for a way to slow down\, reset\, and reconnect\, this guided meditation series offers a thoughtful place to begin. \nThe Journey Within is a six-week immersive meditation experience designed to help participants cultivate greater inner calm\, clarity\, and awareness. Held in the peaceful setting of Vyana Wellness Collective\, each session builds upon the last\, creating a steady and supportive progression over time. \nLed by Karen Leary of Flourishing-by Design\, the series blends guided meditation with moments of reflection\, offering space to quiet the noise of everyday life and reconnect with a deeper sense of presence. \nEach session is approximately 60 minutes and is structured to be approachable for both beginners and those with prior meditation experience. \nParticipants are encouraged to attend the full series to experience the complete arc of the journey\, though individual sessions are available for those with limited availability. \nWhat to Expect:\n• Guided meditation sessions focused on clarity and inner awareness\n• A calm\, supportive environment for reflection and personal growth\n• A consistent weekly rhythm designed to build over time \nWhat to Bring:\n• A yoga mat or comfortable seating support\n• A water bottle\n• A journal for optional reflection \nThis series is ideal for anyone looking to create space\, reduce stress\, and explore a more intentional pace\, all within the welcoming community of Cambria. \nSpace may be limited. To reserve your spot or learn more\, contact the organizer directly. \n📞 408-348-7267\n📧 flowinglikewater99@gmail.com
URL:https://hellocambria.com/event/meditation-series-cambria/2026-07-13/
LOCATION:Vyana Wellness Collective\, 4090 Burton Drive (upstairs)\, Cambria\, CA\, 93428\, United States
CATEGORIES:Body Health
ATTACH;FMTTYPE=image/jpeg:https://hellocambria.com/wp-content/uploads/2026/03/mediation2.jpg
END:VEVENT
END:VCALENDAR